BEGIN:VCALENDAR
VERSION:2.0
PRODID:Events Booking
BEGIN:VEVENT
UID:69e694519da2d
SUMMARY:5. Forum FGM: Kollegiale Fallberatung
DESCRIPTION:Anmeldung: https://forum-fgm.de/termine/5-forum-fgm-kollegiale-
 fallberatung-am-29-1-2025/
DTSTART:20250129T130000Z
DTEND:20250129T143000Z
DTSTAMP:20250122T192921Z
ORGANIZER:MAILTO:formular@saida.de
END:VEVENT
END:VCALENDAR