BEGIN:VCALENDAR
VERSION:2.0
PRODID:Events Booking
BEGIN:VEVENT
UID:69e5ff9be70b8
SUMMARY:Burgenlandkreis\, Fortbildung Genitalverstümmelung
DESCRIPTION:
LOCATION:Schönburger Straße 41\, 06618 Naumburg
DTSTART:20241202T120000Z
DTEND:20241202T160000Z
DTSTAMP:20241104T131210Z
ORGANIZER:MAILTO:formular@saida.de
GEO:51.151162;11.82385
X-APPLE-STRUCTURED-LOCATION;VALUE=URI;X-ADDRESS=Schönburger Straße 41\, 0
 6618 Naumburg;X-APPLE-RADIUS=72;X-TITLE=Landratsamt Naumburg:51.151162;11.
 82385
END:VEVENT
END:VCALENDAR