BEGIN:VCALENDAR
VERSION:2.0
PRODID:Events Booking
BEGIN:VEVENT
UID:69e9ed55c9c3a
SUMMARY:Runder Tisch Rheinland-Pfalz\, Vortrag Genitalverstümmelung und Ki
 nderschutz
DESCRIPTION:
DTSTART:20241120T130000Z
DTEND:20241120T150000Z
DTSTAMP:20241104T125726Z
ORGANIZER:MAILTO:formular@saida.de
END:VEVENT
END:VCALENDAR