BEGIN:VCALENDAR
VERSION:2.0
PRODID:Events Booking
BEGIN:VEVENT
UID:69e67d9d9bc6a
SUMMARY:Schulung \"Genitalverstümmelung - Eine Einführung in Hintergründ
 e\, Folgen und Bedarfe\" (für VERA/AWO)
DESCRIPTION:In der Schulung werden Hintergründe zu folgenden Themen beleuc
 htet:
 
 Praktik und Formen der Genitalverstümmelung
 Motiv
 Folgen

  Verbreitung
 Rechtliche Lage
 Situation in Europa und Deutschland
 Unt
 erstützungsmöglichkeiten und Prävention
 
 Organisiert wird die Veran
 staltung von Vera - Fachstelle gegen Frauenhandel\, Zwangsverheiratung und
  ehrbezogene Gewalt in Sachsen-Anhalt. Die bei dem AWO Landesverband Sach
 sen-Anhalt angesiedelte Fachstelle berät und unterstützt landesweit Frau
 en und Mädchen\, die von Frauenhandel\, ehrbezogener Gewalt und Zwangsver
 heiratung betroffen sind. In der Zukunft wird sich die Fachstelle verstär
 kt auf die Präventionsarbeit an Schulen fokussieren. Referiert wird die 
 Veranstaltung von Simone Schwarz und Katja Novák von SAIDA International 
 e.V. 
 Die Schulung ist kostenfrei. Wir bitten um verbindliche Anmeldung
  zur Online-Veranstaltung bis zum 20.08.2021. Schreiben Sie dazu bitte ein
 e E-Mail mit Namen und ihrem Tätigkeitsfeld an svenja.heinrichs@awo-sachs
 enanhalt.de. Nach der Anmeldung erhalten Sie bis zum 23.08.2021 eine Bena
 chrichtigung mit dem Link zur Schulung. 
DTSTART:20210824T120000Z
DTEND:20210824T140000Z
DTSTAMP:20260420T212517Z
ORGANIZER:MAILTO:formular@saida.de
END:VEVENT
END:VCALENDAR